BEGIN:VCALENDAR
VERSION:2.0
X-WR-CALNAME:April 22, 2026 - Juin 21, 2026
PRODID:-//strange bird labs//Drupal iCal API//EN
BEGIN:VEVENT
DTSTART;VALUE=DATE-TIME:20260426T040000Z
DTEND;VALUE=DATE-TIME:20260426T195900Z
SUMMARY:FriRun Cup 2026
DESCRIPTION:
 Début: 26 Avril, 2026 - 08:00
 Fin: 26 Avril, 2026 - 23:59
 
 
  Description:
  Voici les classements&nbsp; apr&egrave;s 3 manches corrig&eacute;s au 2 avril 2026&nbsp; ( fichier pdf ci-dessous dans Gallery )
 Bonjour les amis de la FriRun Cup,
 Une participation en hausse lors de cette &eacute;dition 2025 avec 203 class&eacute;s !
 Nous nous r&eacute;jouissons de votre nouvelle participation pour 2026 de la FriRun Cup.
 Organisation en charge de la 8e &eacute;dition /Organisiertdurch der 8. Ausgabe :&nbsp;&nbsp;CARC Romont
 
 
URL;VALUE=URI:https://www.chronometrage.ch/node/840
UID:https://www.chronometrage.ch/node/840
END:VEVENT
BEGIN:VEVENT
DTSTART;VALUE=DATE-TIME:20260503T040000Z
DTEND;VALUE=DATE-TIME:20260503T195900Z
SUMMARY:VUDALLA UP & DOWN 2026
DESCRIPTION:
 Début: 3 Mai, 2026 - 08:00
 Fin: 3 Mai, 2026 - 23:59
 
 
  Description:
  Dimanche 3 mai 2026 &agrave; Villars-Sous-Mont FR au&nbsp;c&oelig;ur de l&rsquo;Intyamon
 Une course dri-h&ocirc;, dri-b&acirc;, comme  on dit chez nous !
 Un trac&eacute; exigeant et authentique pour celles et ceux qui veulent se  mesurer &agrave; la Vudalla.
 Depuis Villars-sous-Mont, la course grimpe &agrave;  travers for&ecirc;ts et p&acirc;turages jusqu&rsquo;au col, avant une descente grisante  vers le village.
 &gt;&gt;&gt;&gt;&gt;&gt;&gt;&gt;&gt;&gt;&gt;&gt;&gt;&gt;&gt;&gt;&gt;&gt;&gt;&gt;&gt;&gt;&gt;&gt;&gt;&gt;&gt;&gt;&gt;&gt;&gt;&gt;&gt;&gt;&gt;&gt;&gt;&gt;&gt;&gt;&gt;&gt;&gt;&gt;&gt;
 
 
URL;VALUE=URI:https://www.chronometrage.ch/node/848
UID:https://www.chronometrage.ch/node/848
END:VEVENT
BEGIN:VEVENT
DTSTART;VALUE=DATE-TIME:20260514T040000Z
DTEND;VALUE=DATE-TIME:20260514T195900Z
SUMMARY:COURSE DES 3 PONTS - BROC 2026
DESCRIPTION:
 Début: 14 Mai, 2026 - 08:00
 Fin: 14 Mai, 2026 - 23:59
 
 
  Description:
  &nbsp;
 La 50e &eacute;dition de la Course des 3 Ponts aura lieu le jeudi 14 mai 2026.
 
 
URL;VALUE=URI:https://www.chronometrage.ch/node/852
UID:https://www.chronometrage.ch/node/852
END:VEVENT
BEGIN:VEVENT
DTSTART;VALUE=DATE-TIME:20260523T040000Z
DTEND;VALUE=DATE-TIME:20260523T195900Z
SUMMARY:LA CHIA-1300 2026
DESCRIPTION:
 Début: 23 Mai, 2026 - 08:00
 Fin: 23 Mai, 2026 - 23:59
 
 
  Description:
  &nbsp;
 La Chia 1300 est une nouvelle course de montagne qui est organis&eacute;e par le CS Le P&acirc;quier
 La 3&egrave;me &eacute;dition aura lieu le samedi 23 mai 2026 &agrave; Le P&acirc;quier. 
  Le parcours principal ainsi que le parcours marcheur empruntent les  sentiers de La Chia. 
 Des courses jeunesses et adapt&eacute;es sont &eacute;galement au  programme.
 Attention ! Nouvel horaire d&eacute;part des 14km &agrave;&nbsp; 10h00
 
 
URL;VALUE=URI:https://www.chronometrage.ch/node/853
UID:https://www.chronometrage.ch/node/853
END:VEVENT
BEGIN:VEVENT
DTSTART;VALUE=DATE-TIME:20260524T080000Z
DTEND;VALUE=DATE-TIME:20260524T195900Z
SUMMARY:LA NEYRUZIENNE 2026
DESCRIPTION:
 Début: 24 Mai, 2026 - 12:00
 Fin: 24 Mai, 2026 - 23:59
 
 
  Description:
  &nbsp;
 La 6&egrave;me &eacute;dition aura lieu le dimanche de Pentec&ocirc;te, 24 mai 2026
 Le Ski-Club Neyruz est fier de vous pr&eacute;senter sa  course populaire &quot;La Neyruzienne&quot;.
 Un &eacute;v&eacute;nement se d&eacute;roulant tout au  long de la journ&eacute;e dans une ambiance festive et conviviale jusque dans la nuit.
 
 Un parcours magnifique en for&ecirc;t -  Stade de Neyruz &nbsp;&laquo; LES SIMON &raquo;
 &nbsp;
 Voici le lien des inscriptions en ligne (ouvert !)
 
 
URL;VALUE=URI:https://www.chronometrage.ch/node/851
UID:https://www.chronometrage.ch/node/851
END:VEVENT
BEGIN:VEVENT
DTSTART;VALUE=DATE-TIME:20260529T110000Z
DTEND;VALUE=DATE-TIME:20260529T195900Z
SUMMARY:MAT'RUN 2026
DESCRIPTION:
 Début: 29 Mai, 2026 - 15:00
 Fin: 29 Mai, 2026 - 23:59
 
 
  Description:
  &nbsp;
 le vendredi soir 29 mai 2026 - La Mat'run
 Le Cercle Scolaire est en chantier, ce qui occasionne quelques changements sur la place de f&ecirc;te !
 Nouveau parcours 9,1km depuis 2022
 Parcours de 6,6km pour les marcheurs et Cadets/Cadettes
 D&eacute;part 19:00, Ecole de Matran / Halle de Sport
 La course enfants est ouverte &agrave; tous d&egrave;s 17h50 de 420m &agrave; 730m
 &nbsp;
 Les inscriptions en ligne&nbsp;sont ouvertes jusqu'au 25 mai 2025&nbsp; &nbsp;12h00 :
 
 
URL;VALUE=URI:https://www.chronometrage.ch/node/854
UID:https://www.chronometrage.ch/node/854
END:VEVENT
END:VCALENDAR
